BEGIN:VCALENDAR
VERSION:2.0
PRODID:EVENTFROG//EVENT//ICAL
BEGIN:VEVENT
UID:20260420T015514Z-7451646342462449423@eventfrog.de
DTSTAMP:20260420T015514Z
DTSTART:20260514T171500Z
DTEND:20260514T183000Z
SUMMARY:HEART TO HEART: A Partner Yoga Experience
DESCRIPTION:Share a gentle partner yoga session on May 14th in Soul City, Zürich to connect and breathe together in a warm atmosphere.\n\nhttps://eventfrog.de/de/p/dating/sonstige-veranstaltungen/heart-to-heart-a-partner-yoga-experience-7451646342462449423.html
LOCATION:Soul City
GEO:47.377890;8.529110
URL:https://eventfrog.de/de/p/dating/sonstige-veranstaltungen/heart-to-heart-a-partner-yoga-experience-7451646342462449423.html
END:VEVENT
END:VCALENDAR