BEGIN:VCALENDAR
VERSION:2.0
PRODID:EVENTFROG//EVENT//ICAL
BEGIN:VEVENT
UID:20260420T180035Z-7451648781894828271@eventfrog.de
DTSTAMP:20260420T180035Z
DTSTART:20260425T130000Z
DTEND:20260425T170000Z
SUMMARY:Virgin Guards Magdeburg vs. Erfurt Indigos (Heim)
DESCRIPTION:25.04.: Revanche gegen die Indigos – nach der Heimniederlage letzte Saison wollen wir Antwort geben.\n\n\nhttps://eventfrog.de/de/p/sport-fitness/american-football/virgin-guards-magdeburg-vs-erfurt-indigos-heim-7451648781894828271.html
LOCATION:Heinrich Germer Stadion
GEO:52.105740;11.601539
URL:https://eventfrog.de/de/p/sport-fitness/american-football/virgin-guards-magdeburg-vs-erfurt-indigos-heim-7451648781894828271.html
END:VEVENT
END:VCALENDAR