BEGIN:VCALENDAR
VERSION:2.0
PRODID:EVENTFROG//EVENT//ICAL
BEGIN:VEVENT
UID:20260421T144412Z-7451649738837911531@eventfrog.de
DTSTAMP:20260421T144412Z
DTSTART:20260725T100000Z
DTEND:20260725T160000Z
SUMMARY:CardWave Convention Rostock
DESCRIPTION:Am 25.7.2026 vereint die Convention in Rostock Händler, Bühnenprogramm und Spielbereich für Fans von TCG und Anime.\n\nhttps://eventfrog.de/de/p/messen/messe/cardwave-convention-rostock-7451649738837911531.html
LOCATION:Moya
GEO:54.109402;12.078831
URL:https://eventfrog.de/de/p/messen/messe/cardwave-convention-rostock-7451649738837911531.html
END:VEVENT
END:VCALENDAR