BEGIN:VCALENDAR
VERSION:2.0
PRODID:EVENTFROG//EVENT//ICAL
BEGIN:VEVENT
UID:20260425T224825Z-7451654811387197530@eventfrog.de
DTSTAMP:20260425T224825Z
DTSTART:20260531T170000Z
DTEND:20260531T190000Z
SUMMARY:Show me your Colors
DESCRIPTION:A Cappella zwischen Pop und Jazz — Berlin Vokal erkundet Farben als Gefühl, Erinnerung und Mut. Komm und zeig deine!\n\nhttps://eventfrog.de/de/p/konzerte/a-cappella-vocal/show-me-your-colors-7451654811387197530.html
LOCATION:Martin-Lutherkirche-Neukölln
GEO:52.484298;13.436190
URL:https://eventfrog.de/de/p/konzerte/a-cappella-vocal/show-me-your-colors-7451654811387197530.html
END:VEVENT
END:VCALENDAR