BEGIN:VCALENDAR
VERSION:2.0
PRODID:EVENTFROG//EVENT//ICAL
BEGIN:VEVENT
UID:20260425T193412Z-7451670202645801598@eventfrog.de
DTSTAMP:20260425T193412Z
DTSTART:20260510T090000Z
SUMMARY:"danza danza!"
DESCRIPTION:Tänzerische Musik zum Muttertag\n\nhttps://eventfrog.de/de/p/konzerte/weitere-musikrichtungen/danza-danza-7451670202645801598.html
LOCATION:Lokremise
GEO:47.421211;9.365743
URL:https://eventfrog.de/de/p/konzerte/weitere-musikrichtungen/danza-danza-7451670202645801598.html
END:VEVENT
END:VCALENDAR