BEGIN:VCALENDAR
VERSION:2.0
PRODID:EVENTFROG//EVENT//ICAL
BEGIN:VEVENT
UID:20260421T011145Z-7451670465263713259@eventfrog.de
DTSTAMP:20260421T011145Z
DTSTART:20260510T090000Z
DTEND:20260510T120000Z
SUMMARY:Workshop Grobstrick Traumtasche zum Muttertag
DESCRIPTION:\nGestalte Deine eigene Traumtasche. \n\n\n\nhttps://eventfrog.de/de/p/kurse-seminare/freizeit-hobby/workshop-grobstrick-traumtasche-zum-muttertag-7451670465263713259.html
LOCATION:Stoff & Co
GEO:48.151160;11.563603
URL:https://eventfrog.de/de/p/kurse-seminare/freizeit-hobby/workshop-grobstrick-traumtasche-zum-muttertag-7451670465263713259.html
END:VEVENT
END:VCALENDAR