BEGIN:VCALENDAR
VERSION:2.0
PRODID:EVENTFROG//EVENT//ICAL
BEGIN:VEVENT
UID:20260424T083605Z-7451683160968963202@eventfrog.de
DTSTAMP:20260424T083605Z
DTSTART:20260530T170000Z
DTEND:20260530T210000Z
SUMMARY:Dingdong Bar in Wipkingen mit Live Musik
DESCRIPTION:Bar im Glockenturm in Wipkingen mit wunderschöner Aussicht über Zürich.\nDich erwarten eine atemberaubende Aussicht, erfrischende Drinks (mit und ohne) und ein einzigartiges Klangerlebnis alle 15Min\n\nhttps://eventfrog.de/de/p/diverses/dingdong-bar-in-wipkingen-mit-live-musik-7451683160968963202.html
LOCATION:Dingdong Bar Wipkingen
GEO:47.394783;8.527157
URL:https://eventfrog.de/de/p/diverses/dingdong-bar-in-wipkingen-mit-live-musik-7451683160968963202.html
END:VEVENT
END:VCALENDAR