BEGIN:VCALENDAR
VERSION:2.0
PRODID:EVENTFROG//EVENT//ICAL
BEGIN:VEVENT
UID:20260424T083920Z-7451684392559231423@eventfrog.de
DTSTAMP:20260424T083920Z
DTSTART:20260524T070000Z
SUMMARY:Grosser Preis der Stadt Grenchen
DESCRIPTION:Regionales Boccia-Einzelturnier\nSonntag, 24. Mai 2026\n09:00 Uhr Bocciodromo Grenchen\n\nhttps://eventfrog.de/de/p/sport-fitness/freizeitsport/grosser-preis-der-stadt-grenchen-7451684392559231423.html
LOCATION:Bocciodromo
GEO:47.183968;7.408052
URL:https://eventfrog.de/de/p/sport-fitness/freizeitsport/grosser-preis-der-stadt-grenchen-7451684392559231423.html
END:VEVENT
END:VCALENDAR