BEGIN:VCALENDAR
VERSION:2.0
PRODID:EVENTFROG//EVENT//ICAL
BEGIN:VEVENT
UID:20260422T194018Z-7451696081472071158@eventfrog.de
DTSTAMP:20260422T194018Z
DTSTART:20270122T180000Z
DTEND:20270122T220000Z
SUMMARY:Adieu Chéri – Krimidinner Achern
DESCRIPTION:DinnerUniverse inszeniert am 22.1. in Achern ein interaktives Krimi-Dinner rund um eine tödliche Liebe inklusive Menü.\n\nhttps://eventfrog.de/de/p/theater-buehne/theater/adieu-cheri-krimidinner-achern-7451696081472071158.html
LOCATION:SCHECK-IN Kochfabrik
GEO:48.627659;8.054717
URL:https://eventfrog.de/de/p/theater-buehne/theater/adieu-cheri-krimidinner-achern-7451696081472071158.html
END:VEVENT
END:VCALENDAR