BEGIN:VCALENDAR
VERSION:2.0
PRODID:EVENTFROG//EVENT//ICAL
BEGIN:VEVENT
UID:20260422T222259Z-7451697105792453593@eventfrog.de
DTSTAMP:20260422T222259Z
DTSTART:20260424T180000Z
DTEND:20260424T210000Z
SUMMARY:Yoto Concerts x EALA - Manchmal.Oft.Immer - Tour
DESCRIPTION:EALA präsentiert ein emotionales Livekonzert mit ehrlicher Popmusik, Support Me&T. Einlass 19 Uhr, Beginn 20 Uhr in Hamburg Schanze.\n\nhttps://eventfrog.de/de/p/konzerte/pop-rock/yoto-concerts-x-eala-manchmal-oft-immer-tour-7451697105792453593.html
LOCATION:Yoto
GEO:53.562347;9.961065
URL:https://eventfrog.de/de/p/konzerte/pop-rock/yoto-concerts-x-eala-manchmal-oft-immer-tour-7451697105792453593.html
END:VEVENT
END:VCALENDAR