BEGIN:VCALENDAR
VERSION:2.0
PRODID:EVENTFROG//EVENT//ICAL
BEGIN:VEVENT
UID:20260424T093353Z-7451746698227939777@eventfrog.de
DTSTAMP:20260424T093353Z
DTSTART:20260606T123000Z
DTEND:20260606T173000Z
SUMMARY:Beer Pong &#8211; Turnier
DESCRIPTION:Das Beer Pong Turnier im GdL!\n\nhttps://eventfrog.de/de/p/diverses/beer-pong-8211-turnier-7451746698227939777.html
LOCATION:Gare de Lion
GEO:47.461330;9.032780
URL:https://eventfrog.de/de/p/diverses/beer-pong-8211-turnier-7451746698227939777.html
END:VEVENT
END:VCALENDAR