BEGIN:VCALENDAR
VERSION:2.0
PRODID:EVENTFROG//EVENT//ICAL
BEGIN:VEVENT
UID:20260420T131429Z-7451748168729902829@eventfrog.de
DTSTAMP:20260420T131429Z
DTSTART:20260501T170000Z
SUMMARY:Küche für Alle
DESCRIPTION:Feines Essen und gute Gespräche.\n\nhttps://eventfrog.de/de/p/diverses/kueche-fuer-alle-7451748168729902829.html
LOCATION:CaBi Antirassismus-Treff
GEO:47.424828;9.382564
URL:https://eventfrog.de/de/p/diverses/kueche-fuer-alle-7451748168729902829.html
END:VEVENT
END:VCALENDAR