BEGIN:VCALENDAR
VERSION:2.0
PRODID:EVENTFROG//EVENT//ICAL
BEGIN:VEVENT
UID:20260424T083701Z-7451748253031238517@eventfrog.de
DTSTAMP:20260424T083701Z
DTSTART:20260507T180000Z
SUMMARY:37. Schaffhauser Jazzfestival
DESCRIPTION:Diverse Acts.\n\nhttps://eventfrog.de/de/p/konzerte/37-schaffhauser-jazzfestival-7451748253031238517.html
LOCATION:Kammgarn
GEO:47.695890;8.638049
URL:https://eventfrog.de/de/p/konzerte/37-schaffhauser-jazzfestival-7451748253031238517.html
END:VEVENT
END:VCALENDAR