BEGIN:VCALENDAR
VERSION:2.0
PRODID:EVENTFROG//EVENT//ICAL
BEGIN:VEVENT
UID:20260422T200655Z-7451748312925908431@eventfrog.de
DTSTAMP:20260422T200655Z
DTSTART:20260513T133000Z
SUMMARY:Billie Eilish – Hit Me Hard and Soft: The Tour
DESCRIPTION:3D Konzerterlebnis der Welttournee.\n\nhttps://eventfrog.de/de/p/freizeit-ausfluege/billie-eilish-hit-me-hard-and-soft-the-tour-7451748312925908431.html
LOCATION:Cinewil
GEO:47.463280;9.041600
URL:https://eventfrog.de/de/p/freizeit-ausfluege/billie-eilish-hit-me-hard-and-soft-the-tour-7451748312925908431.html
END:VEVENT
END:VCALENDAR