BEGIN:VCALENDAR
VERSION:2.0
PRODID:EVENTFROG//EVENT//ICAL
BEGIN:VEVENT
UID:20260424T092413Z-7451751666343225828@eventfrog.de
DTSTAMP:20260424T092413Z
DTSTART:20260506T170000Z
SUMMARY:Carrom
DESCRIPTION:Game Night.\n\nhttps://eventfrog.de/de/p/diverses/carrom-7451751666343225828.html
LOCATION:Werkstatt Chur
GEO:46.848620;9.530680
URL:https://eventfrog.de/de/p/diverses/carrom-7451751666343225828.html
END:VEVENT
END:VCALENDAR