BEGIN:VCALENDAR
VERSION:2.0
PRODID:EVENTFROG//EVENT//ICAL
BEGIN:VEVENT
UID:20260424T080426Z-7451751666863319527@eventfrog.de
DTSTAMP:20260424T080426Z
DTSTART:20260524T170000Z
SUMMARY:Sunday Jam – Vol. 8
DESCRIPTION:Lines, Flows und Styles: lokaler Cypher.\n\nhttps://eventfrog.de/de/p/konzerte/sunday-jam-vol-8-7451751666863319527.html
LOCATION:Werkstatt Chur
GEO:46.848620;9.530680
URL:https://eventfrog.de/de/p/konzerte/sunday-jam-vol-8-7451751666863319527.html
END:VEVENT
END:VCALENDAR