BEGIN:VCALENDAR
VERSION:2.0
PRODID:EVENTFROG//EVENT//ICAL
BEGIN:VEVENT
UID:20260424T083450Z-7451754016483084366@eventfrog.de
DTSTAMP:20260424T083450Z
DTSTART:20260508T173000Z
SUMMARY:Schaffhausen Klassik 6 «La mer»
DESCRIPTION:Jugendsinfonieorchester: Boulanger, Saint-Saëns, Debussy.\n\nhttps://eventfrog.de/de/p/konzerte/schaffhausen-klassik-6-la-mer-7451754016483084366.html
LOCATION:Reformierte Kirche St. Johann
GEO:47.696493;8.635685
URL:https://eventfrog.de/de/p/konzerte/schaffhausen-klassik-6-la-mer-7451754016483084366.html
END:VEVENT
END:VCALENDAR