BEGIN:VCALENDAR
VERSION:2.0
PRODID:EVENTFROG//EVENT//ICAL
BEGIN:VEVENT
UID:20260424T085134Z-7451754017003178066@eventfrog.de
DTSTAMP:20260424T085134Z
DTSTART:20260508T180000Z
SUMMARY:Saint City Beatz Vol. 11
DESCRIPTION:Tanzbattle: Hip-Hop, Popping, House, etc.\n\nhttps://eventfrog.de/de/p/partys/saint-city-beatz-vol-11-7451754017003178066.html
LOCATION:Jugendkulturraum flon
GEO:47.419825;9.367446
URL:https://eventfrog.de/de/p/partys/saint-city-beatz-vol-11-7451754017003178066.html
END:VEVENT
END:VCALENDAR