BEGIN:VCALENDAR
VERSION:2.0
PRODID:EVENTFROG//EVENT//ICAL
BEGIN:VEVENT
UID:20260424T083629Z-7451826941898848857@eventfrog.de
DTSTAMP:20260424T083629Z
DTSTART:20261107T090000Z
DTEND:20261108T170000Z
SUMMARY:Grundlagen der energetischen Heilung, Teil 1/4 (Sa & So)
DESCRIPTION:Ganzheitliche Heilung: Der Weg zu deinem wahren Selbst\nHeilung erfordert eine harmonische Verbindung von Geist, Emotionen, Körper und Energie für nachhaltige Veränderung.\n\nhttps://eventfrog.de/de/p/gesundheit-spiritualitaet/gesundheit-wohlbefinden/grundlagen-der-energetischen-heilung-teil-1-4-sa-so-7451826941898848857.html
LOCATION:RUUM 8
GEO:47.227448;8.674305
URL:https://eventfrog.de/de/p/gesundheit-spiritualitaet/gesundheit-wohlbefinden/grundlagen-der-energetischen-heilung-teil-1-4-sa-so-7451826941898848857.html
END:VEVENT
END:VCALENDAR