BEGIN:VCALENDAR
VERSION:2.0
PRODID:EVENTFROG//EVENT//ICAL
BEGIN:VEVENT
UID:20260424T052258Z-7451881215273999275@eventfrog.de
DTSTAMP:20260424T052258Z
DTSTART:20260424T180000Z
DTEND:20260424T200000Z
SUMMARY:the quiet rebels
DESCRIPTION:Jsa Strauss und Marc Gerber bieten gefühlvolle Country-Folk-Songs mit besonderer Gitarrenkunst für Gänsehaut-Momente.\n\nhttps://eventfrog.de/de/p/konzerte/country/the-quiet-rebels-7451881215273999275.html
LOCATION:Restaurant Rebleuten
GEO:46.730538;7.669955
URL:https://eventfrog.de/de/p/konzerte/country/the-quiet-rebels-7451881215273999275.html
END:VEVENT
END:VCALENDAR