BEGIN:VCALENDAR
VERSION:2.0
PRODID:EVENTFROG//EVENT//ICAL
BEGIN:VEVENT
UID:20260421T160443Z-7451903647221290196@eventfrog.de
DTSTAMP:20260421T160443Z
DTSTART:20270110T180000Z
SUMMARY:Best of Musicals
DESCRIPTION:Am 10.01.2027 bringt Best of Musicals mit neuem Programm das Stadttheater Ingolstadt zum Leuchten. Große Hits, starke Stimmen und Mitmachmomente sorgen für einen unvergesslichen Abend.\n\nhttps://eventfrog.de/de/p/musicals-shows/musical/best-of-musicals-7451903647221290196.html
LOCATION:Best of Musicals Ingolstadt
GEO:48.763166;11.429013
URL:https://eventfrog.de/de/p/musicals-shows/musical/best-of-musicals-7451903647221290196.html
END:VEVENT
END:VCALENDAR