BEGIN:VCALENDAR
VERSION:2.0
PRODID:EVENTFROG//EVENT//ICAL
BEGIN:VEVENT
UID:20260421T121733Z-7451912774936956344@eventfrog.de
DTSTAMP:20260421T121733Z
DTSTART:20260527T121500Z
DTEND:20260527T131500Z
SUMMARY:Square Dance für blinde und sehbehinderte Tänzer
DESCRIPTION:Birgit Rudolf und Stephan Jacobs führen in Square Dance für blinde und sehbehinderte Menschen ein – kostenlos und unverbindlich vor Ort.\n\nhttps://eventfrog.de/de/p/kurse-seminare/musik-tanz/square-dance-fuer-blinde-und-sehbehinderte-taenzer-7451912774936956344.html
LOCATION:Kap Europa, Frankfurt am Main, DE, auf der der Sport & Musik Bühne
GEO:50.109966;8.653981
URL:https://eventfrog.de/de/p/kurse-seminare/musik-tanz/square-dance-fuer-blinde-und-sehbehinderte-taenzer-7451912774936956344.html
END:VEVENT
END:VCALENDAR