BEGIN:VCALENDAR
VERSION:2.0
PRODID:EVENTFROG//EVENT//ICAL
BEGIN:VEVENT
UID:20260424T103715Z-7451943697455797749@eventfrog.de
DTSTAMP:20260424T103715Z
DTSTART:20260426T093000Z
DTEND:20260426T130000Z
SUMMARY:Fête des bénévoles et supporters du Viteos NUC
DESCRIPTION:Le 26 avril, fête conviviale avec staff et joueuses du Viteos NUC à la Cave des Lauriers, Cressier, de 11h30 à 15h00.\n\nhttps://eventfrog.de/fr/p/soirees-fetes/autres-fetes/fete-des-benevoles-et-supporters-du-viteos-nuc-7451943697455797749.html
LOCATION:Cave des Lauriers
GEO:47.052266;7.037838
URL:https://eventfrog.de/fr/p/soirees-fetes/autres-fetes/fete-des-benevoles-et-supporters-du-viteos-nuc-7451943697455797749.html
END:VEVENT
END:VCALENDAR