BEGIN:VCALENDAR
VERSION:2.0
PRODID:EVENTFROG//EVENT//ICAL
BEGIN:VEVENT
UID:20260424T202521Z-7451957327312247961@eventfrog.de
DTSTAMP:20260424T202521Z
DTSTART:20260601T170000Z
DTEND:20260601T180000Z
SUMMARY:Yin Yoga mit Karina
DESCRIPTION:Yin Yoga stärkt Bänder, Bindegewebe und Gelenke durch sanfte Dehnungen und basiert auf chinesischer Medizin zur Förderung von Gesundheit.\n\nhttps://eventfrog.de/de/p/gesundheit-spiritualitaet/gesundheit-wohlbefinden/yin-yoga-mit-karina-7451957327312247961.html
LOCATION:Kids&co Familienzentrum Maria Enzersdorf
GEO:48.100805;16.280810
URL:https://eventfrog.de/de/p/gesundheit-spiritualitaet/gesundheit-wohlbefinden/yin-yoga-mit-karina-7451957327312247961.html
END:VEVENT
END:VCALENDAR