BEGIN:VCALENDAR
VERSION:2.0
PRODID:EVENTFROG//EVENT//ICAL
BEGIN:VEVENT
UID:20260424T083754Z-7451958356179158926@eventfrog.de
DTSTAMP:20260424T083754Z
DTSTART:20260613T173000Z
DTEND:20260613T190000Z
SUMMARY:Begegnungskonzert Zürcher Sängerknaben und Georgia Boy Choir
DESCRIPTION:Begegnungskonzert zwischen den Zürcher Sängerknaben und dem Georgia Boy Choir, der uns auf seiner Alpine Tour besucht.\n\nhttps://eventfrog.de/de/p/konzerte/chor/begegnungskonzert-zuercher-saengerknaben-und-georgia-boy-choir-7451958356179158926.html
LOCATION:Predigerkirche Zürich
GEO:47.374128;8.545021
URL:https://eventfrog.de/de/p/konzerte/chor/begegnungskonzert-zuercher-saengerknaben-und-georgia-boy-choir-7451958356179158926.html
END:VEVENT
END:VCALENDAR