BEGIN:VCALENDAR
VERSION:2.0
PRODID:EVENTFROG//EVENT//ICAL
BEGIN:VEVENT
UID:20260424T085205Z-7451971728094287674@eventfrog.de
DTSTAMP:20260424T085205Z
DTSTART:20260429T101500Z
DTEND:20260429T121500Z
SUMMARY:Die Zeiten ändern sich, ich bleibe ich
DESCRIPTION:Die Psychologie der Selbstführung. Mit Karl Gernandt.\n\nhttps://eventfrog.de/de/p/wissenschaft-und-technik/die-zeiten-aendern-sich-ich-bleibe-ich-7451971728094287674.html
LOCATION:SQUARE HSG
GEO:47.433291;9.374780
URL:https://eventfrog.de/de/p/wissenschaft-und-technik/die-zeiten-aendern-sich-ich-bleibe-ich-7451971728094287674.html
END:VEVENT
END:VCALENDAR