BEGIN:VCALENDAR
VERSION:2.0
PRODID:EVENTFROG//EVENT//ICAL
BEGIN:VEVENT
UID:20260424T083630Z-7451978852643938045@eventfrog.de
DTSTAMP:20260424T083630Z
DTSTART:20260513T120000Z
DTEND:20260513T150000Z
SUMMARY:Grosser Senioren-Tanznachmittag mit Live-Musik
DESCRIPTION:Ein grosser, heller Saal mit schönem Parkettboden steht den Tanzenden zur Verfügung. Einmal monatlich spielen für uns Live-Musiker, heute mit Ruedi-Music.\n\nhttps://eventfrog.de/de/p/sport-fitness/tanzsport/grosser-senioren-tanznachmittag-mit-live-musik-7451978852643938045.html
LOCATION:Gemeindezentrum
GEO:47.206351;7.452765
URL:https://eventfrog.de/de/p/sport-fitness/tanzsport/grosser-senioren-tanznachmittag-mit-live-musik-7451978852643938045.html
END:VEVENT
END:VCALENDAR