BEGIN:VCALENDAR
VERSION:2.0
PRODID:EVENTFROG//EVENT//ICAL
BEGIN:VEVENT
UID:20260424T071639Z-7451982267751119247@eventfrog.de
DTSTAMP:20260424T071639Z
DTSTART:20260430T200000Z
DTEND:20260501T020000Z
SUMMARY:Springbreak Edition 2
DESCRIPTION:Spring Break vibes im ROK  Starte im Baloo mit Welcome Drink & DJ-Sound und feier danach weiter im Klub mit 2 für 1 Turbo Mate  Eine Nacht voller Energie, Beats und guter Laune \n\nhttps://eventfrog.de/de/p/partys/studentenparty/springbreak-edition-2-7451982267751119247.html
LOCATION:Rok Klub
GEO:47.050166;8.307552
URL:https://eventfrog.de/de/p/partys/studentenparty/springbreak-edition-2-7451982267751119247.html
END:VEVENT
END:VCALENDAR