BEGIN:VCALENDAR
VERSION:2.0
PRODID:EVENTFROG//EVENT//ICAL
BEGIN:VEVENT
UID:20260424T083804Z-7451984013311395372@eventfrog.de
DTSTAMP:20260424T083804Z
DTSTART:20260613T160000Z
DTEND:20260613T180000Z
SUMMARY:Beyond Breath - Breathwork Electronic Music
DESCRIPTION:Join Max Moritz at LJUS Yoga Studio on June 13 for a 90-min guided breathwork and electronic music journey.\n\nhttps://eventfrog.de/de/p/gesundheit-spiritualitaet/wellness/beyond-breath-breathwork-electronic-music-7451984013311395372.html
LOCATION:Ljus Studio
GEO:47.392400;8.530949
URL:https://eventfrog.de/de/p/gesundheit-spiritualitaet/wellness/beyond-breath-breathwork-electronic-music-7451984013311395372.html
END:VEVENT
END:VCALENDAR