BEGIN:VCALENDAR
VERSION:2.0
PRODID:EVENTFROG//EVENT//ICAL
BEGIN:VEVENT
UID:20260424T084850Z-7451984623096069872@eventfrog.de
DTSTAMP:20260424T084850Z
DTSTART:20260702T090000Z
DTEND:20260702T150000Z
SUMMARY:«HAP Grieshaber – Einschnitt  Ausdruck. Sammlung Würth»
DESCRIPTION:Das Forum Würth Arlesheim widmet HAP Grieshaber (1909–1981) mit «Einschnitt  Ausdruck» die erste Einzelausstellung aus der Sammlung Würth in der Schweiz.\n\nhttps://eventfrog.de/de/p/kunst-ausstellungen/ausstellung/hap-grieshaber-einschnitt-ausdruck-sammlung-wuerth-7451984623096069872.html
LOCATION:Forum Würth Arlesheim
GEO:47.497009;7.607158
URL:https://eventfrog.de/de/p/kunst-ausstellungen/ausstellung/hap-grieshaber-einschnitt-ausdruck-sammlung-wuerth-7451984623096069872.html
END:VEVENT
END:VCALENDAR