BEGIN:VCALENDAR
VERSION:2.0
PRODID:EVENTFROG//EVENT//ICAL
BEGIN:VEVENT
UID:20260424T101756Z-7451986245327045322@eventfrog.de
DTSTAMP:20260424T101756Z
DTSTART:20260603T140000Z
DTEND:20260603T150000Z
SUMMARY:Frühe Wollstoffe aus Ost und West
DESCRIPTION:Themenführung in der Abegg-Stiftung mit Dr. Regula Schorta, Direktorin\n\nhttps://eventfrog.de/de/p/fuehrungen-vortraege/fuehrung/fruehe-wollstoffe-aus-ost-und-west-7451986245327045322.html
LOCATION:Abegg-Stiftung
GEO:46.815411;7.494730
URL:https://eventfrog.de/de/p/fuehrungen-vortraege/fuehrung/fruehe-wollstoffe-aus-ost-und-west-7451986245327045322.html
END:VEVENT
END:VCALENDAR