BEGIN:VCALENDAR
VERSION:2.0
PRODID:EVENTFROG//EVENT//ICAL
BEGIN:VEVENT
UID:20260424T083754Z-7451987045575051860@eventfrog.de
DTSTAMP:20260424T083754Z
DTSTART:20260511T170000Z
DTEND:20260511T191500Z
SUMMARY:Transformative Atemsession
DESCRIPTION:Transformative Atemsession\n\nhttps://eventfrog.de/de/p/kurse-seminare/sonstige-kurse-seminare/transformative-atemsession-7451987045575051860.html
LOCATION:Gesundungsraum
GEO:47.371292;8.545731
URL:https://eventfrog.de/de/p/kurse-seminare/sonstige-kurse-seminare/transformative-atemsession-7451987045575051860.html
END:VEVENT
END:VCALENDAR