BEGIN:VCALENDAR
VERSION:2.0
PRODID:EVENTFROG//EVENT//ICAL
BEGIN:VEVENT
UID:20260424T065635Z-7451987070438890631@eventfrog.de
DTSTAMP:20260424T065635Z
DTSTART:20260502T150000Z
DTEND:20260502T160000Z
SUMMARY:Mit Kurzgeschichten durch die Jahreszeiten
DESCRIPTION:Lesung  mit kurzen Geschichten entlang den Jahreszeiten, von und mit Marcello Friedli-Schwarz. Apero, Kollekte\n\nhttps://eventfrog.de/de/p/kunst-ausstellungen/kultur/mit-kurzgeschichten-durch-die-jahreszeiten-7451987070438890631.html
LOCATION:Yoga Soletta
GEO:47.208121;7.512260
URL:https://eventfrog.de/de/p/kunst-ausstellungen/kultur/mit-kurzgeschichten-durch-die-jahreszeiten-7451987070438890631.html
END:VEVENT
END:VCALENDAR