BEGIN:VCALENDAR
VERSION:2.0
PRODID:EVENTFROG//EVENT//ICAL
BEGIN:VEVENT
UID:20260424T065632Z-7451987994972536501@eventfrog.de
DTSTAMP:20260424T065632Z
DTSTART:20260509T090000Z
DTEND:20260509T100000Z
SUMMARY:Führung «Zu Besuch bei der pinken Eule»
DESCRIPTION:An dieser Führung entdecken die Teilnehmenden kreative Arbeiten von Schüler*innen der Schule für Gestaltung Basel. Die Werke sind inspiriert von Objekten aus der Ausstellung «Die Eule ist pink».\n\nhttps://eventfrog.de/de/p/kunst-ausstellungen/ausstellung/fuehrung-zu-besuch-bei-der-pinken-eule-7451987994972536501.html
LOCATION:Museum der Kulturen Basel
GEO:47.557200;7.590650
URL:https://eventfrog.de/de/p/kunst-ausstellungen/ausstellung/fuehrung-zu-besuch-bei-der-pinken-eule-7451987994972536501.html
END:VEVENT
END:VCALENDAR