BEGIN:VCALENDAR
VERSION:2.0
PRODID:EVENTFROG//EVENT//ICAL
BEGIN:VEVENT
UID:20260424T103148Z-7451990886437663959@eventfrog.de
DTSTAMP:20260424T103148Z
DTSTART:20260524T123000Z
DTEND:20260524T133000Z
SUMMARY:Öffentliche Führung durch die Sonderausstellung
DESCRIPTION:Öffentliche Führung durch die Sonderausstellung «Zuhause in der Spätantike – Textile Innenausstattung des 4.–7. Jahrhunderts»\n\nhttps://eventfrog.de/de/p/fuehrungen-vortraege/fuehrung/oeffentliche-fuehrung-durch-die-sonderausstellung-7451990886437663959.html
LOCATION:Abegg-Stiftung
GEO:46.815411;7.494730
URL:https://eventfrog.de/de/p/fuehrungen-vortraege/fuehrung/oeffentliche-fuehrung-durch-die-sonderausstellung-7451990886437663959.html
END:VEVENT
END:VCALENDAR