BEGIN:VCALENDAR
VERSION:2.0
PRODID:EVENTFROG//EVENT//ICAL
BEGIN:VEVENT
UID:20260422T230609Z-7451991306199389305@eventfrog.de
DTSTAMP:20260422T230609Z
DTSTART:20260425T170000Z
SUMMARY:- KI wie du und ich - Autorenlesung  von Thomas Frick
DESCRIPTION:Thomas Frick  Autorenlesung\nKino wie du und ich \nKI  Segen oder Apokalypse \nVielfach ausgezeichneter Autor und Regisseur aus Potsdam beleuchtet die seltsamen Kreaturen KI  von der emotionalen Seite. \n\nhttps://eventfrog.de/de/p/diverses/ki-wie-du-und-ich-autorenlesung-von-thomas-frick-7451991306199389305.html
LOCATION:Lange Str. 10
GEO:52.825317;12.073034
URL:https://eventfrog.de/de/p/diverses/ki-wie-du-und-ich-autorenlesung-von-thomas-frick-7451991306199389305.html
END:VEVENT
END:VCALENDAR