BEGIN:VCALENDAR
VERSION:2.0
PRODID:EVENTFROG//EVENT//ICAL
BEGIN:VEVENT
UID:20260424T095136Z-7451991876104671983@eventfrog.de
DTSTAMP:20260424T095136Z
DTSTART:20260519T120000Z
DTEND:20260519T133000Z
SUMMARY:Hirschen-Plauderei «Brücken in meinem Leben»
DESCRIPTION:In lockerer Runde tauschen sich Teilnehmende unter einer Moderatorin zu wechselnden Themen aus. Anschliessend gibt es ein kleines Zvieri.\n\nhttps://eventfrog.de/de/p/diverses/hirschen-plauderei-bruecken-in-meinem-leben-7451991876104671983.html
LOCATION:Haus Hirschen
GEO:47.206758;7.535388
URL:https://eventfrog.de/de/p/diverses/hirschen-plauderei-bruecken-in-meinem-leben-7451991876104671983.html
END:VEVENT
END:VCALENDAR