BEGIN:VCALENDAR
VERSION:2.0
PRODID:EVENTFROG//EVENT//ICAL
BEGIN:VEVENT
UID:20260424T105657Z-7451992050436725056@eventfrog.de
DTSTAMP:20260424T105657Z
DTSTART:20260502T074000Z
DTEND:20260502T100000Z
SUMMARY:Waldbegehung Hagenbuech- und Achslenwald
DESCRIPTION:Wanderung durch Hagenbuech- und Achslenwald mit Forstfachleuten. Total ca. 2 Std., reine Wanderzeit knapp 1 Std.\n\nhttps://eventfrog.de/de/p/freizeit-ausfluege/tier-und-naturerlebnisse/waldbegehung-hagenbuech-und-achslenwald-7451992050436725056.html
LOCATION:Haltestelle Notkersegg, Appenzeller Bahn, 9011 St. Gallen
GEO:47.425244;9.403800
URL:https://eventfrog.de/de/p/freizeit-ausfluege/tier-und-naturerlebnisse/waldbegehung-hagenbuech-und-achslenwald-7451992050436725056.html
END:VEVENT
END:VCALENDAR