BEGIN:VCALENDAR
VERSION:2.0
PRODID:EVENTFROG//EVENT//ICAL
BEGIN:VEVENT
UID:20260424T080429Z-7451995673765902317@eventfrog.de
DTSTAMP:20260424T080429Z
DTSTART:20261018T180000Z
DTEND:20261018T200000Z
SUMMARY:Cinzia & Romana Ganzoni - PER TAI
DESCRIPTION:Cinzia und Romana Ganzoni vereinen Musik und Literatur zu einem Abend über Liebe und Verbundenheit auf Rätoromanisch, Englisch und Deutsch.\n\nhttps://eventfrog.de/de/p/konzerte/weitere-musikrichtungen/cinzia-romana-ganzoni-per-tai-7451995673765902317.html
LOCATION:Werkstatt Chur
GEO:46.848620;9.530680
URL:https://eventfrog.de/de/p/konzerte/weitere-musikrichtungen/cinzia-romana-ganzoni-per-tai-7451995673765902317.html
END:VEVENT
END:VCALENDAR