BEGIN:VCALENDAR
VERSION:2.0
PRODID:EVENTFROG//EVENT//ICAL
BEGIN:VEVENT
UID:20260424T062107Z-7452007514671982484@eventfrog.de
DTSTAMP:20260424T062107Z
DTSTART:20260522T160000Z
DTEND:20260522T190000Z
SUMMARY:EMBODIED VOICE: A Journey of Expression & Sound
DESCRIPTION:Experience guided voice activation and a soothing sound bath to express and transform emotions on 22 May, 18:00-21:00 in Soulcity Zurich.\n\nhttps://eventfrog.de/de/p/gesundheit-spiritualitaet/spiritualitaet/embodied-voice-a-journey-of-expression-sound-7452007514671982484.html
LOCATION:Soul City
GEO:47.377890;8.529110
URL:https://eventfrog.de/de/p/gesundheit-spiritualitaet/spiritualitaet/embodied-voice-a-journey-of-expression-sound-7452007514671982484.html
END:VEVENT
END:VCALENDAR