BEGIN:VCALENDAR
VERSION:2.0
PRODID:EVENTFROG//EVENT//ICAL
BEGIN:VEVENT
UID:20260422T114243Z-7452015276348983647@eventfrog.de
DTSTAMP:20260422T114243Z
DTSTART:20260425T153000Z
DTEND:20260425T170000Z
SUMMARY:VTS-Spielabend: Lasertag!
DESCRIPTION:Am 25. April 2026 bietet der VTS-Spielabend in Sindelfingen von 17:30–19 Uhr LaserTag, Snacks und Getränke in exklusiver Halle.\n\nhttps://eventfrog.de/de/p/freizeit-ausfluege/gruppen-spiele/vts-spielabend-lasertag-7452015276348983647.html
LOCATION:Laserbase Sindelfingen
GEO:48.705601;9.018202
URL:https://eventfrog.de/de/p/freizeit-ausfluege/gruppen-spiele/vts-spielabend-lasertag-7452015276348983647.html
END:VEVENT
END:VCALENDAR