BEGIN:VCALENDAR
VERSION:2.0
PRODID:EVENTFROG//EVENT//ICAL
BEGIN:VEVENT
UID:20260422T210601Z-7452020444746520574@eventfrog.de
DTSTAMP:20260422T210601Z
DTSTART:20260523T200000Z
DTEND:20260524T043000Z
SUMMARY:THE BEAT -World of Techno- PARTY
DESCRIPTION:Am 23.5.26 ab 22 Uhr treten NICO CASCEUR, MAYZE, SHORTY, TECHNOVABADER und MISS LENEA an der THE BEAT Techno Party auf.\n\nhttps://eventfrog.de/de/p/partys/house-techno/the-beat-world-of-techno-party-7452020444746520574.html
LOCATION:Silver Event Location
GEO:52.550461;13.442255
URL:https://eventfrog.de/de/p/partys/house-techno/the-beat-world-of-techno-party-7452020444746520574.html
END:VEVENT
END:VCALENDAR