BEGIN:VCALENDAR
VERSION:2.0
PRODID:EVENTFROG//EVENT//ICAL
BEGIN:VEVENT
UID:20260422T021928Z-7452021912413146906@eventfrog.de
DTSTAMP:20260422T021928Z
DTSTART:20260516T200000Z
DTEND:20260517T030000Z
SUMMARY:EBM SYNTHPOP PARTY
DESCRIPTION:Am 16.5.26 ab 22 Uhr legt Resident R EBM, Elektro und Synthpop im Silver Berlin Weissensee/Pankow auf.\n\nhttps://eventfrog.de/de/p/partys/electro/ebm-synthpop-party-7452021912413146906.html
LOCATION:Silver Event Location
GEO:52.550461;13.442255
URL:https://eventfrog.de/de/p/partys/electro/ebm-synthpop-party-7452021912413146906.html
END:VEVENT
END:VCALENDAR