BEGIN:VCALENDAR
VERSION:2.0
PRODID:EVENTFROG//EVENT//ICAL
BEGIN:VEVENT
UID:20260424T110036Z-7452036996560641497@eventfrog.de
DTSTAMP:20260424T110036Z
DTSTART:20260616T160000Z
DTEND:20260616T200000Z
SUMMARY:Hammer - Die Auktions-Show
DESCRIPTION:Kunst. Theater. Auktion. Eine neue Show. Mit oder ohne Essen.  \n\nhttps://eventfrog.de/de/p/kunst-ausstellungen/kultur/hammer-die-auktions-show-7452036996560641497.html
LOCATION:Restaurant Le Beizli
GEO:46.934933;7.417593
URL:https://eventfrog.de/de/p/kunst-ausstellungen/kultur/hammer-die-auktions-show-7452036996560641497.html
END:VEVENT
END:VCALENDAR