BEGIN:VCALENDAR
VERSION:2.0
PRODID:EVENTFROG//EVENT//ICAL
BEGIN:VEVENT
UID:20260422T072804Z-7452059483776253017@eventfrog.de
DTSTAMP:20260422T072804Z
DTSTART:20260530T170000Z
DTEND:20260530T233000Z
SUMMARY:20. Watzstock Festival
DESCRIPTION:20 Jahre legendäres Watzstock Festival am 30. Mai 2026 in Katholisch-Willenroth.\n\nhttps://eventfrog.de/de/p/festivals/weitere-festivals/20-watzstock-festival-7452059483776253017.html
LOCATION:Watzstock Festival
GEO:50.332476;9.349821
URL:https://eventfrog.de/de/p/festivals/weitere-festivals/20-watzstock-festival-7452059483776253017.html
END:VEVENT
END:VCALENDAR