BEGIN:VCALENDAR
VERSION:2.0
PRODID:EVENTFROG//EVENT//ICAL
BEGIN:VEVENT
UID:20260421T052426Z-7452110254253326161@eventfrog.de
DTSTAMP:20260421T052426Z
DTSTART:20260528T180000Z
DTEND:20260528T193000Z
SUMMARY:YOU
DESCRIPTION:Das Tanztheater YOU erforscht magische Lebensmomente und stellt tiefgehende Fragen zu Identität und Gemeinschaft.\n\nhttps://eventfrog.de/de/p/theater-buehne/tanz/you-7452110254253326161.html
LOCATION:Karlstorbahnhof
GEO:49.386545;8.681138
URL:https://eventfrog.de/de/p/theater-buehne/tanz/you-7452110254253326161.html
END:VEVENT
END:VCALENDAR