BEGIN:VCALENDAR
VERSION:2.0
PRODID:EVENTFROG//EVENT//ICAL
BEGIN:VEVENT
UID:20260421T083030Z-7452110615424851713@eventfrog.de
DTSTAMP:20260421T083030Z
DTSTART:20260531T120000Z
SUMMARY:Der kleine Komet
DESCRIPTION:Der Klassiker für die Kleinsten.\n\nhttps://eventfrog.de/de/p/wissenschaft-und-technik/der-kleine-komet-7452110615424851713.html
LOCATION:Planetarium | Bodensee
GEO:47.641511;9.159443
URL:https://eventfrog.de/de/p/wissenschaft-und-technik/der-kleine-komet-7452110615424851713.html
END:VEVENT
END:VCALENDAR