BEGIN:VCALENDAR
VERSION:2.0
PRODID:EVENTFROG//EVENT//ICAL
BEGIN:VEVENT
UID:20260424T083757Z-7452110641102382407@eventfrog.de
DTSTAMP:20260424T083757Z
DTSTART:20260506T170000Z
SUMMARY:Abend in der Sternwarte
DESCRIPTION:Ein gemeinsamer Blick in die Sterne.\n\nhttps://eventfrog.de/de/p/wissenschaft-und-technik/abend-in-der-sternwarte-7452110641102382407.html
LOCATION:Planetarium | Bodensee
GEO:47.641511;9.159443
URL:https://eventfrog.de/de/p/wissenschaft-und-technik/abend-in-der-sternwarte-7452110641102382407.html
END:VEVENT
END:VCALENDAR