BEGIN:VCALENDAR
VERSION:2.0
PRODID:EVENTFROG//EVENT//ICAL
BEGIN:VEVENT
UID:20260421T180646Z-7452110861567537064@eventfrog.de
DTSTAMP:20260421T180646Z
DTSTART:20260524T093000Z
SUMMARY:Führung
DESCRIPTION:Die Geschichte der Firma Dornier.\n\nhttps://eventfrog.de/de/p/wissenschaft-und-technik/fuehrung-7452110861567537064.html
LOCATION:Dornier Museum
GEO:47.670555;9.517771
URL:https://eventfrog.de/de/p/wissenschaft-und-technik/fuehrung-7452110861567537064.html
END:VEVENT
END:VCALENDAR