BEGIN:VCALENDAR
VERSION:2.0
PRODID:EVENTFROG//EVENT//ICAL
BEGIN:VEVENT
UID:20260424T102513Z-7452115918904114158@eventfrog.de
DTSTAMP:20260424T102513Z
DTSTART:20260502T180000Z
SUMMARY:Anliker Dance Nights
DESCRIPTION:Vom Tango zum Wiener Walzer, uvm.\n\nhttps://eventfrog.de/de/p/partys/anliker-dance-nights-7452115918904114158.html
LOCATION:Tanzschule Anliker
GEO:47.439577;9.410081
URL:https://eventfrog.de/de/p/partys/anliker-dance-nights-7452115918904114158.html
END:VEVENT
END:VCALENDAR